BEGIN:VCALENDAR
VERSION:2.0
PRODID:-//Alone - ECPv6.1.2.2//NONSGML v1.0//EN
CALSCALE:GREGORIAN
METHOD:PUBLISH
X-WR-CALNAME:Alone
X-ORIGINAL-URL:https://alzulfiquar.com/web
X-WR-CALDESC:Events for Alone
REFRESH-INTERVAL;VALUE=DURATION:PT1H
X-Robots-Tag:noindex
X-PUBLISHED-TTL:PT1H
BEGIN:VTIMEZONE
TZID:Asia/Kolkata
BEGIN:STANDARD
TZOFFSETFROM:+0530
TZOFFSETTO:+0530
TZNAME:IST
DTSTART:20230101T000000
END:STANDARD
END:VTIMEZONE
BEGIN:VEVENT
DTSTART;TZID=Asia/Kolkata:20230818T100000
DTEND;TZID=Asia/Kolkata:20230818T220000
DTSTAMP:20260425T012617
CREATED:20230711T115641Z
LAST-MODIFIED:20230711T115641Z
UID:17312-1692352800-1692396000@alzulfiquar.com
SUMMARY:1 Safar\, 1445
DESCRIPTION:1 Safar\, 1445
URL:https://alzulfiquar.com/web/event/1-safar-1445/
ATTACH;FMTTYPE=image/jpeg:https://alzulfiquar.com/web/wp-content/uploads/2023/07/safar.jpg
END:VEVENT
END:VCALENDAR