BEGIN:VCALENDAR
VERSION:2.0
PRODID:-//Alone - ECPv6.1.2.2//NONSGML v1.0//EN
CALSCALE:GREGORIAN
METHOD:PUBLISH
X-WR-CALNAME:Alone
X-ORIGINAL-URL:https://alzulfiquar.com/web
X-WR-CALDESC:Events for Alone
REFRESH-INTERVAL;VALUE=DURATION:PT1H
X-Robots-Tag:noindex
X-PUBLISHED-TTL:PT1H
BEGIN:VTIMEZONE
TZID:UTC
BEGIN:STANDARD
TZOFFSETFROM:+0000
TZOFFSETTO:+0000
TZNAME:UTC
DTSTART:20230101T000000
END:STANDARD
TZID:Asia/Kolkata
BEGIN:STANDARD
TZOFFSETFROM:+0530
TZOFFSETTO:+0530
TZNAME:IST
DTSTART:20230101T000000
END:STANDARD
TZID:Asia/Katmandu
BEGIN:STANDARD
TZOFFSETFROM:+0545
TZOFFSETTO:+0545
TZNAME:+0545
DTSTART:20230101T000000
END:STANDARD
END:VTIMEZONE
BEGIN:VEVENT
DTSTART;TZID=UTC:20230730T100000
DTEND;TZID=UTC:20230730T220000
DTSTAMP:20260425T121359
CREATED:20230711T114556Z
LAST-MODIFIED:20230711T114556Z
UID:17306-1690711200-1690754400@alzulfiquar.com
SUMMARY:Soyem Shuhada-e-Karbala (AS)
DESCRIPTION:Soyem Shuhada-e-Karbala (AS)
URL:https://alzulfiquar.com/web/event/soyem-shuhada-e-karbala-as/
ATTACH;FMTTYPE=image/jpeg:https://alzulfiquar.com/web/wp-content/uploads/2023/07/muharram.jpg
END:VEVENT
BEGIN:VEVENT
DTSTART;TZID=UTC:20230728T100000
DTEND;TZID=UTC:20230728T220000
DTSTAMP:20260425T121359
CREATED:20230711T114352Z
LAST-MODIFIED:20230711T114615Z
UID:17304-1690538400-1690581600@alzulfiquar.com
SUMMARY:Ashoora-e-Muharram/Martyrdom: Imam Hussain (AS)
DESCRIPTION:Ashoora-e-Muharram/Martyrdom: Imam Hussain (AS)
URL:https://alzulfiquar.com/web/event/ashoora-e-muharram-martyrdom-imam-hussain-as/
ATTACH;FMTTYPE=image/jpeg:https://alzulfiquar.com/web/wp-content/uploads/2023/07/muharram.jpg
END:VEVENT
BEGIN:VEVENT
DTSTART;TZID=Asia/Kolkata:20230720T100000
DTEND;TZID=Asia/Kolkata:20230720T220000
DTSTAMP:20260425T121359
CREATED:20230711T114158Z
LAST-MODIFIED:20230711T114626Z
UID:17302-1689847200-1689890400@alzulfiquar.com
SUMMARY:Imam Hussain (AS) reached Karbala
DESCRIPTION:Imam Hussain (AS) reached Karbala
URL:https://alzulfiquar.com/web/event/imam-hussain-as-reached-karbala/
ATTACH;FMTTYPE=image/jpeg:https://alzulfiquar.com/web/wp-content/uploads/2023/07/muharram.jpg
END:VEVENT
BEGIN:VEVENT
DTSTART;TZID=Asia/Katmandu:20230719T100000
DTEND;TZID=Asia/Katmandu:20230719T220000
DTSTAMP:20260425T121359
CREATED:20230711T071208Z
LAST-MODIFIED:20230711T114042Z
UID:17252-1689760800-1689804000@alzulfiquar.com
SUMMARY:1 Muharram\, 1445
DESCRIPTION:1 Muharram\, 1445
URL:https://alzulfiquar.com/web/event/muharram/
ATTACH;FMTTYPE=image/jpeg:https://alzulfiquar.com/web/wp-content/uploads/2023/07/muharram.jpg
END:VEVENT
END:VCALENDAR