BEGIN:VCALENDAR
VERSION:2.0
PRODID:-//Alone - ECPv6.1.2.2//NONSGML v1.0//EN
CALSCALE:GREGORIAN
METHOD:PUBLISH
X-ORIGINAL-URL:https://alzulfiquar.com/web
X-WR-CALDESC:Events for Alone
REFRESH-INTERVAL;VALUE=DURATION:PT1H
X-Robots-Tag:noindex
X-PUBLISHED-TTL:PT1H
BEGIN:VTIMEZONE
TZID:Asia/Kolkata
BEGIN:STANDARD
TZOFFSETFROM:+0530
TZOFFSETTO:+0530
TZNAME:IST
DTSTART:20230101T000000
END:STANDARD
END:VTIMEZONE
BEGIN:VEVENT
DTSTART;TZID=Asia/Kolkata:20230824T100000
DTEND;TZID=Asia/Kolkata:20230824T220000
DTSTAMP:20260425T030908
CREATED:20230711T115852Z
LAST-MODIFIED:20230711T115852Z
UID:17315-1692871200-1692914400@alzulfiquar.com
SUMMARY:Wiladat: Imam Moosa Kazim (AS)
DESCRIPTION:Wiladat: Imam Moosa Kazim (AS)
URL:https://alzulfiquar.com/web/event/wiladat-imam-moosa-kazim-as/
ATTACH;FMTTYPE=image/jpeg:https://alzulfiquar.com/web/wp-content/uploads/2023/07/safar.jpg
END:VEVENT
BEGIN:VEVENT
DTSTART;TZID=Asia/Kolkata:20230826T100000
DTEND;TZID=Asia/Kolkata:20230826T220000
DTSTAMP:20260425T030908
CREATED:20230711T120002Z
LAST-MODIFIED:20230711T120002Z
UID:17317-1693044000-1693087200@alzulfiquar.com
SUMMARY:Battle of Naharwan was won
DESCRIPTION:Battle of Naharwan was won
URL:https://alzulfiquar.com/web/event/battle-of-naharwan-was-won/
ATTACH;FMTTYPE=image/jpeg:https://alzulfiquar.com/web/wp-content/uploads/2023/07/safar.jpg
END:VEVENT
BEGIN:VEVENT
DTSTART;TZID=Asia/Kolkata:20230830T100000
DTEND;TZID=Asia/Kolkata:20230830T220000
DTSTAMP:20260425T030908
CREATED:20230711T120058Z
LAST-MODIFIED:20230711T120116Z
UID:17319-1693389600-1693432800@alzulfiquar.com
SUMMARY:Martyrdom: Bibi Sakina (SA) binte Hussain (AS)
DESCRIPTION:Martyrdom: Bibi Sakina (SA) binte Hussain (AS)
URL:https://alzulfiquar.com/web/event/martyrdom-bibi-sakina-sa-binte-hussain-as/
ATTACH;FMTTYPE=image/jpeg:https://alzulfiquar.com/web/wp-content/uploads/2023/07/safar.jpg
END:VEVENT
END:VCALENDAR